BEGIN:VCALENDAR
VERSION:2.0
PRODID:-//Säulischränzer Eibu - ECPv5.9.0//NONSGML v1.0//EN
CALSCALE:GREGORIAN
METHOD:PUBLISH
X-WR-CALNAME:Säulischränzer Eibu
X-ORIGINAL-URL:https://saeulischraenzer-eibu.ch
X-WR-CALDESC:Veranstaltungen für Säulischränzer Eibu
BEGIN:VTIMEZONE
TZID:Europe/Berlin
BEGIN:DAYLIGHT
TZOFFSETFROM:+0100
TZOFFSETTO:+0200
TZNAME:CEST
DTSTART:20230326T010000
END:DAYLIGHT
BEGIN:STANDARD
TZOFFSETFROM:+0200
TZOFFSETTO:+0100
TZNAME:CET
DTSTART:20231029T010000
END:STANDARD
END:VTIMEZONE
BEGIN:VEVENT
DTSTART;VALUE=DATE:20230219
DTEND;VALUE=DATE:20230220
DTSTAMP:20260420T104502
CREATED:20220416T083655Z
LAST-MODIFIED:20230214T161840Z
UID:14965-1676764800-1676851199@saeulischraenzer-eibu.ch
SUMMARY:Dörflifasnacht Eibu
DESCRIPTION:14.00 Uhr Start Umzug\, Nr. 27 \nanschliessend Monster  \n22.00 Uhr Auftritt im Mööslisaal  \nweitere Informationen\, hier klicken 
URL:https://saeulischraenzer-eibu.ch/event/doerflifasnacht-eibu/
LOCATION:Inwil\, Inwil Möösli
CATEGORIES:Startseite
END:VEVENT
END:VCALENDAR