BEGIN:VCALENDAR
VERSION:2.0
PRODID:-//Säulischränzer Eibu - ECPv5.9.0//NONSGML v1.0//EN
CALSCALE:GREGORIAN
METHOD:PUBLISH
X-WR-CALNAME:Säulischränzer Eibu
X-ORIGINAL-URL:https://saeulischraenzer-eibu.ch
X-WR-CALDESC:Veranstaltungen für Säulischränzer Eibu
BEGIN:VTIMEZONE
TZID:Europe/Berlin
BEGIN:DAYLIGHT
TZOFFSETFROM:+0100
TZOFFSETTO:+0200
TZNAME:CEST
DTSTART:20220327T010000
END:DAYLIGHT
BEGIN:STANDARD
TZOFFSETFROM:+0200
TZOFFSETTO:+0100
TZNAME:CET
DTSTART:20221030T010000
END:STANDARD
END:VTIMEZONE
BEGIN:VEVENT
DTSTART;VALUE=DATE:20220205
DTEND;VALUE=DATE:20220206
DTSTAMP:20260420T143208
CREATED:20210914T153301Z
LAST-MODIFIED:20220117T192312Z
UID:14328-1644019200-1644105599@saeulischraenzer-eibu.ch
SUMMARY:Fasnachtsparty Eibu
DESCRIPTION:13.30-14.30 Uhr   Sponsorenapéro \n14.30-18.00 Uhr   Unterhaltungsnachmittag für alle Fasnachtsfreunde\nAuftritt „Die Original Chromme vo Baubu“ & „Trebiä“ aus Inwil. Zusätzlich spielen wir Säulischränzer mit unseren Ehemaligen Mitglieder-/innen unsere eingeübten Lieder. Freut euch also auf „saumässig geili pompösi Fasnachtsstemmig“ \n19.00 Uhr             Türöffnung Fasnachtsparty\nEintritt ab 16 Jahren\, 2G+\, Oneway\nAbendkasse CHF 17.00\, Vorverkauf Ticket CHF 15.00 gültig bis 22.00 Uhr / Guggenprogramm folgt \n12.00-23.00          öffentliches Antigen-Testcenter beim Schulhaus Inwil\, ohne Voranmeldung\, muss mit Wartezeiten gerechnet werden\nDer ganze Fasnachtstag findet mit den 2G+ Regeln statt. 
URL:https://saeulischraenzer-eibu.ch/event/fasnachtsparty-eibu-3/
LOCATION:Inwil\, Inwil Möösli
CATEGORIES:Startseite
END:VEVENT
END:VCALENDAR