BEGIN:VCALENDAR
VERSION:2.0
PRODID:-//Säulischränzer Eibu - ECPv5.9.0//NONSGML v1.0//EN
CALSCALE:GREGORIAN
METHOD:PUBLISH
X-WR-CALNAME:Säulischränzer Eibu
X-ORIGINAL-URL:https://saeulischraenzer-eibu.ch
X-WR-CALDESC:Veranstaltungen für Säulischränzer Eibu
BEGIN:VTIMEZONE
TZID:Europe/Berlin
BEGIN:DAYLIGHT
TZOFFSETFROM:+0100
TZOFFSETTO:+0200
TZNAME:CEST
DTSTART:20230326T010000
END:DAYLIGHT
BEGIN:STANDARD
TZOFFSETFROM:+0200
TZOFFSETTO:+0100
TZNAME:CET
DTSTART:20231029T010000
END:STANDARD
END:VTIMEZONE
BEGIN:VEVENT
DTSTART;VALUE=DATE:20230204
DTEND;VALUE=DATE:20230205
DTSTAMP:20260420T143345
CREATED:20220416T083939Z
LAST-MODIFIED:20231205T144709Z
UID:14967-1675468800-1675555199@saeulischraenzer-eibu.ch
SUMMARY:Fasnachtsparty Eibu
DESCRIPTION:JETZT VORVERKAUF TICKET SICHERN –> HIER KLICKEN \n13.30-14.30 Uhr   Sponsorenapéro \n14.30-17.00 Uhr   Unterhaltungsnachmittag für alle Fasnachtsfreunde\nAuftritt „Die Original Chromme vo Baubu“ & „Trebiä“ aus Inwil. Zusätzlich spielen wir Säulischränzer ein Ständli und freuen uns auf viele Fasnachtsfreunde.\n19.00 Uhr             Türöffnung Fasnachtsparty\nEintritt ab 16 Jahren\, Oneway\nAbendkasse CHF 17.00\, Vorverkauf Ticket CHF 15.00 gültig bis 22.00 Uhr \nUnsere Gäste und die Spielzeiten;\nSaal\n21.00 Uhr Greubiheuscher Schachen\n22.00 Uhr Gessler Chessler Küssnacht\n23.00 Uhr Eibeler Sträggele\n00.00 Uhr Näburugger Mosen \nKafizelt\n20.30 Uhr Städer Schränzer Alpnache\n21.30 Uhr Tschaggi Waggi St. Gallen\n22.30 Uhr Rossbomele Hochdorf\n23.30 Uhr Fluechräie Schwarzenberg\n00.30 Uhr Profis-Ohrisch Baar
URL:https://saeulischraenzer-eibu.ch/event/fasnachtsparty-eibu-4-3/
LOCATION:Inwil\, Inwil Möösli
CATEGORIES:Startseite
ATTACH;FMTTYPE=image/jpeg:https://saeulischraenzer-eibu.ch/wp-content/uploads/2022/11/fb2023-scaled.jpg
END:VEVENT
END:VCALENDAR