BEGIN:VCALENDAR
VERSION:2.0
PRODID:-//Säulischränzer Eibu - ECPv5.9.0//NONSGML v1.0//EN
CALSCALE:GREGORIAN
METHOD:PUBLISH
X-WR-CALNAME:Säulischränzer Eibu
X-ORIGINAL-URL:https://saeulischraenzer-eibu.ch
X-WR-CALDESC:Veranstaltungen für Säulischränzer Eibu
BEGIN:VTIMEZONE
TZID:Europe/Berlin
BEGIN:DAYLIGHT
TZOFFSETFROM:+0100
TZOFFSETTO:+0200
TZNAME:CEST
DTSTART:20230326T010000
END:DAYLIGHT
BEGIN:STANDARD
TZOFFSETFROM:+0200
TZOFFSETTO:+0100
TZNAME:CET
DTSTART:20231029T010000
END:STANDARD
END:VTIMEZONE
BEGIN:VEVENT
DTSTART;VALUE=DATE:20230211
DTEND;VALUE=DATE:20230212
DTSTAMP:20260420T143201
CREATED:20180119T130639Z
LAST-MODIFIED:20221226T094432Z
UID:13033-1676073600-1676159999@saeulischraenzer-eibu.ch
SUMMARY:Guuggi Fäscht Hergiswil
DESCRIPTION:Monster: 18.30 Uhr\nAuftritt: 22:00 Uhr
URL:https://saeulischraenzer-eibu.ch/event/guuggifaescht/
CATEGORIES:Startseite
END:VEVENT
END:VCALENDAR