BEGIN:VCALENDAR
VERSION:2.0
PRODID:-//Säulischränzer Eibu - ECPv5.9.0//NONSGML v1.0//EN
CALSCALE:GREGORIAN
METHOD:PUBLISH
X-WR-CALNAME:Säulischränzer Eibu
X-ORIGINAL-URL:https://saeulischraenzer-eibu.ch
X-WR-CALDESC:Veranstaltungen für Säulischränzer Eibu
BEGIN:VTIMEZONE
TZID:Europe/Berlin
BEGIN:DAYLIGHT
TZOFFSETFROM:+0100
TZOFFSETTO:+0200
TZNAME:CEST
DTSTART:20190331T010000
END:DAYLIGHT
BEGIN:STANDARD
TZOFFSETFROM:+0200
TZOFFSETTO:+0100
TZNAME:CET
DTSTART:20191027T010000
END:STANDARD
END:VTIMEZONE
BEGIN:VEVENT
DTSTART;VALUE=DATE:20190126
DTEND;VALUE=DATE:20190127
DTSTAMP:20260420T164540
CREATED:20181209T130654Z
LAST-MODIFIED:20181209T130654Z
UID:13035-1548460800-1548547199@saeulischraenzer-eibu.ch
SUMMARY:Magic Night Honeri
DESCRIPTION:
URL:https://saeulischraenzer-eibu.ch/event/magic-night-honeri/
CATEGORIES:Startseite
END:VEVENT
END:VCALENDAR