BEGIN:VCALENDAR
VERSION:2.0
PRODID:-//Säulischränzer Eibu - ECPv5.9.0//NONSGML v1.0//EN
CALSCALE:GREGORIAN
METHOD:PUBLISH
X-WR-CALNAME:Säulischränzer Eibu
X-ORIGINAL-URL:https://saeulischraenzer-eibu.ch
X-WR-CALDESC:Veranstaltungen für Säulischränzer Eibu
BEGIN:VTIMEZONE
TZID:Europe/Berlin
BEGIN:DAYLIGHT
TZOFFSETFROM:+0100
TZOFFSETTO:+0200
TZNAME:CEST
DTSTART:20240331T010000
END:DAYLIGHT
BEGIN:STANDARD
TZOFFSETFROM:+0200
TZOFFSETTO:+0100
TZNAME:CET
DTSTART:20241027T010000
END:STANDARD
END:VTIMEZONE
BEGIN:VEVENT
DTSTART;TZID=Europe/Berlin:20240202T200000
DTEND;TZID=Europe/Berlin:20240202T233000
DTSTAMP:20260421T091229
CREATED:20231128T192155Z
LAST-MODIFIED:20231128T192516Z
UID:15771-1706904000-1706916600@saeulischraenzer-eibu.ch
SUMMARY:Musikpalast Inwil
DESCRIPTION:
URL:https://saeulischraenzer-eibu.ch/event/musikpalast-inwil/
CATEGORIES:Startseite
END:VEVENT
BEGIN:VEVENT
DTSTART;TZID=Europe/Berlin:20240203T200000
DTEND;TZID=Europe/Berlin:20240203T233000
DTSTAMP:20260421T091229
CREATED:20231128T192322Z
LAST-MODIFIED:20231128T192525Z
UID:15773-1706990400-1707003000@saeulischraenzer-eibu.ch
SUMMARY:Escheschränzer Eschenbach
DESCRIPTION:
URL:https://saeulischraenzer-eibu.ch/event/escheschraenzer-eschenbach/
CATEGORIES:Startseite
END:VEVENT
BEGIN:VEVENT
DTSTART;TZID=Europe/Berlin:20240207T200000
DTEND;TZID=Europe/Berlin:20240207T233000
DTSTAMP:20260421T091229
CREATED:20240202T154353Z
LAST-MODIFIED:20240202T154445Z
UID:16037-1707336000-1707348600@saeulischraenzer-eibu.ch
SUMMARY:LMS Honeri
DESCRIPTION:Auftritt 21:00 Uhr
URL:https://saeulischraenzer-eibu.ch/event/lms-honeri/
CATEGORIES:Startseite
END:VEVENT
BEGIN:VEVENT
DTSTART;TZID=Europe/Berlin:20240208T100000
DTEND;TZID=Europe/Berlin:20240208T170000
DTSTAMP:20260421T091229
CREATED:20240202T175529Z
LAST-MODIFIED:20240202T175529Z
UID:16058-1707386400-1707411600@saeulischraenzer-eibu.ch
SUMMARY:Stadt Luzern
DESCRIPTION:
URL:https://saeulischraenzer-eibu.ch/event/stadt-luzern/
CATEGORIES:Startseite
END:VEVENT
BEGIN:VEVENT
DTSTART;TZID=Europe/Berlin:20240208T200000
DTEND;TZID=Europe/Berlin:20240208T233000
DTSTAMP:20260421T091229
CREATED:20240202T154740Z
LAST-MODIFIED:20240202T154740Z
UID:16041-1707422400-1707435000@saeulischraenzer-eibu.ch
SUMMARY:Explo Ruswil
DESCRIPTION:Auftritt 18:50 Uhr & 22:45 Uhr \n 
URL:https://saeulischraenzer-eibu.ch/event/explo-ruswil/
CATEGORIES:Startseite
END:VEVENT
BEGIN:VEVENT
DTSTART;TZID=Europe/Berlin:20240209T130000
DTEND;TZID=Europe/Berlin:20240209T170000
DTSTAMP:20260421T091229
CREATED:20240202T155218Z
LAST-MODIFIED:20240202T155218Z
UID:16051-1707483600-1707498000@saeulischraenzer-eibu.ch
SUMMARY:Eibu Tour
DESCRIPTION:
URL:https://saeulischraenzer-eibu.ch/event/eibu-tour/
CATEGORIES:Startseite
END:VEVENT
BEGIN:VEVENT
DTSTART;TZID=Europe/Berlin:20240209T200000
DTEND;TZID=Europe/Berlin:20240209T233000
DTSTAMP:20260421T091229
CREATED:20240202T154828Z
LAST-MODIFIED:20240202T154828Z
UID:16043-1707508800-1707521400@saeulischraenzer-eibu.ch
SUMMARY:Guggemania Untersiggenthal
DESCRIPTION:Auftritt 00:00 Uhr 
URL:https://saeulischraenzer-eibu.ch/event/guggemania-untersiggenthal/
CATEGORIES:Startseite
END:VEVENT
BEGIN:VEVENT
DTSTART;TZID=Europe/Berlin:20240210T120000
DTEND;TZID=Europe/Berlin:20240210T180000
DTSTAMP:20260421T091229
CREATED:20240202T154947Z
LAST-MODIFIED:20240202T154947Z
UID:16045-1707566400-1707588000@saeulischraenzer-eibu.ch
SUMMARY:Rooter Fasnacht
DESCRIPTION:Umzug 13:30 Uhr
URL:https://saeulischraenzer-eibu.ch/event/rooter-fasnacht/
CATEGORIES:Startseite
END:VEVENT
BEGIN:VEVENT
DTSTART;TZID=Europe/Berlin:20240210T200000
DTEND;TZID=Europe/Berlin:20240210T233000
DTSTAMP:20260421T091229
CREATED:20240202T155021Z
LAST-MODIFIED:20240202T155021Z
UID:16047-1707595200-1707607800@saeulischraenzer-eibu.ch
SUMMARY:Schränzer Ball Sins
DESCRIPTION:Auftritt 22:30 Uhr
URL:https://saeulischraenzer-eibu.ch/event/schraenzer-ball-sins/
CATEGORIES:Startseite
END:VEVENT
BEGIN:VEVENT
DTSTART;VALUE=DATE:20240211
DTEND;VALUE=DATE:20240212
DTSTAMP:20260421T091229
CREATED:20230303T161719Z
LAST-MODIFIED:20230303T165152Z
UID:15698-1707609600-1707695999@saeulischraenzer-eibu.ch
SUMMARY:Dörflifasnacht Eibu
DESCRIPTION:
URL:https://saeulischraenzer-eibu.ch/event/doerflifasnacht-2024/
LOCATION:Inwil\, Inwil Möösli
CATEGORIES:Startseite
END:VEVENT
END:VCALENDAR